BEGIN:VCALENDAR
VERSION:2.0
PRODID:-//Brora Church of Scotland - ECPv6.2.6//NONSGML v1.0//EN
CALSCALE:GREGORIAN
METHOD:PUBLISH
X-ORIGINAL-URL:https://www.brorachurchofscotland.org
X-WR-CALDESC:Events for Brora Church of Scotland
REFRESH-INTERVAL;VALUE=DURATION:PT1H
X-Robots-Tag:noindex
X-PUBLISHED-TTL:PT1H
BEGIN:VTIMEZONE
TZID:UTC
BEGIN:STANDARD
TZOFFSETFROM:+0000
TZOFFSETTO:+0000
TZNAME:UTC
DTSTART:20210101T000000
END:STANDARD
END:VTIMEZONE
BEGIN:VEVENT
DTSTART;TZID=UTC:20210422T080000
DTEND;TZID=UTC:20210422T170000
DTSTAMP:20260421T222317
CREATED:20210413T094428Z
LAST-MODIFIED:20210419T142218Z
UID:3921-1619078400-1619110800@www.brorachurchofscotland.org
SUMMARY:New Website Launch
DESCRIPTION:
URL:https://www.brorachurchofscotland.org/event/new-website-launch/
END:VEVENT
END:VCALENDAR