BEGIN:VCALENDAR
VERSION:2.0
PRODID:-//Brora Church of Scotland - ECPv6.2.6//NONSGML v1.0//EN
CALSCALE:GREGORIAN
METHOD:PUBLISH
X-ORIGINAL-URL:https://www.brorachurchofscotland.org
X-WR-CALDESC:Events for Brora Church of Scotland
REFRESH-INTERVAL;VALUE=DURATION:PT1H
X-Robots-Tag:noindex
X-PUBLISHED-TTL:PT1H
BEGIN:VTIMEZONE
TZID:UTC
BEGIN:STANDARD
TZOFFSETFROM:+0000
TZOFFSETTO:+0000
TZNAME:UTC
DTSTART:20210101T000000
END:STANDARD
END:VTIMEZONE
BEGIN:VEVENT
DTSTART;TZID=UTC:20210922T150000
DTEND;TZID=UTC:20210922T150000
DTSTAMP:20260421T121131
CREATED:20210915T085937Z
LAST-MODIFIED:20210915T085937Z
UID:4140-1632322800-1632322800@www.brorachurchofscotland.org
SUMMARY:The Great Big Hall Tidy Up
DESCRIPTION:The Great Big Hall Tidy Up … on Wednesday 22nd September at 3pm – please do come along and help spruce up our Church Hall\, the more folks the less work. If you can give an hour or so it would be much appreciated.
URL:https://www.brorachurchofscotland.org/event/the-great-big-hall-tidy-up/
END:VEVENT
END:VCALENDAR