BEGIN:VCALENDAR
VERSION:2.0
PRODID:-//Brora Church of Scotland - ECPv6.2.6//NONSGML v1.0//EN
CALSCALE:GREGORIAN
METHOD:PUBLISH
X-ORIGINAL-URL:https://www.brorachurchofscotland.org
X-WR-CALDESC:Events for Brora Church of Scotland
REFRESH-INTERVAL;VALUE=DURATION:PT1H
X-Robots-Tag:noindex
X-PUBLISHED-TTL:PT1H
BEGIN:VTIMEZONE
TZID:UTC
BEGIN:STANDARD
TZOFFSETFROM:+0000
TZOFFSETTO:+0000
TZNAME:UTC
DTSTART:20210101T000000
END:STANDARD
END:VTIMEZONE
BEGIN:VEVENT
DTSTART;TZID=UTC:20210924T100000
DTEND;TZID=UTC:20210925T160000
DTSTAMP:20260421T121131
CREATED:20210830T132527Z
LAST-MODIFIED:20210915T085707Z
UID:4132-1632477600-1632585600@www.brorachurchofscotland.org
SUMMARY:Brora Free Art Exhibition - Creative in Lockdown
DESCRIPTION:Art Exhibition in Brora at Clyne Church – Free entry Donations welcome – featuring work by Connecting Communities’ Art ‘n Blether group. \n \n 
URL:https://www.brorachurchofscotland.org/event/art-exhibition-friday-saturday-times-to-be-confirmed/
END:VEVENT
END:VCALENDAR